BEGIN:VCALENDAR
VERSION:2.0
PRODID:-//Camp Aldersgate - ECPv6.15.20//NONSGML v1.0//EN
CALSCALE:GREGORIAN
METHOD:PUBLISH
X-ORIGINAL-URL:https://campaldersgate.net
X-WR-CALDESC:Events for Camp Aldersgate
REFRESH-INTERVAL;VALUE=DURATION:PT1H
X-Robots-Tag:noindex
X-PUBLISHED-TTL:PT1H
BEGIN:VTIMEZONE
TZID:UTC
BEGIN:STANDARD
TZOFFSETFROM:+0000
TZOFFSETTO:+0000
TZNAME:UTC
DTSTART:20210101T000000
END:STANDARD
END:VTIMEZONE
BEGIN:VEVENT
DTSTART;TZID=UTC:20221016T113000
DTEND;TZID=UTC:20221016T153000
DTSTAMP:20260423T102552
CREATED:20220726T163403Z
LAST-MODIFIED:20220726T163403Z
UID:3638-1665919800-1665934200@campaldersgate.net
SUMMARY:Fish Fry
DESCRIPTION:Camp Aldersgate welcomes our Central Arkansas community & surrounding areas to join the fun\, grab some food\, & celebrate with us for 39 years of fried fish & all the fixins! Get ready for all the fun this year as we shift back to in-person festivities! \nLearn more about this year’s event and purchase tickets here.
URL:https://campaldersgate.net/event/fish-fry/
LOCATION:Camp Aldersgate\, 2000 Aldersgate Rd.\, Little Rock\, AR\, 72205\, United States
END:VEVENT
BEGIN:VEVENT
DTSTART;VALUE=DATE:20221021
DTEND;VALUE=DATE:20221024
DTSTAMP:20260423T102552
CREATED:20220726T163104Z
LAST-MODIFIED:20220726T163104Z
UID:3632-1666310400-1666569599@campaldersgate.net
SUMMARY:October Weekend Camp
DESCRIPTION:Camp Aldersgate’s Weekend Camps provide developmentally appropriate opportunities for our campers that promote cognitive\, physical\, social and emotional growth in a fun\, engaging\, camp setting. Activity planning for each weekend includes a mix of physical activities\, art\, outdoor activities and structured and free-play. Weekend Camps are open for each camper to attend a maximum of six times in a school year. \nTo sign up for our Weekend Camp\, register here.
URL:https://campaldersgate.net/event/october-weekend-camp/
LOCATION:Camp Aldersgate\, 2000 Aldersgate Rd.\, Little Rock\, AR\, 72205\, United States
END:VEVENT
END:VCALENDAR