BEGIN:VCALENDAR
VERSION:2.0
PRODID:-//Camp Aldersgate - ECPv6.15.20//NONSGML v1.0//EN
CALSCALE:GREGORIAN
METHOD:PUBLISH
X-ORIGINAL-URL:https://campaldersgate.net
X-WR-CALDESC:Events for Camp Aldersgate
REFRESH-INTERVAL;VALUE=DURATION:PT1H
X-Robots-Tag:noindex
X-PUBLISHED-TTL:PT1H
BEGIN:VTIMEZONE
TZID:UTC
BEGIN:STANDARD
TZOFFSETFROM:+0000
TZOFFSETTO:+0000
TZNAME:UTC
DTSTART:20210101T000000
END:STANDARD
END:VTIMEZONE
BEGIN:VEVENT
DTSTART;VALUE=DATE:20221104
DTEND;VALUE=DATE:20221107
DTSTAMP:20260421T131018
CREATED:20220726T163135Z
LAST-MODIFIED:20220726T163135Z
UID:3634-1667520000-1667779199@campaldersgate.net
SUMMARY:November Weekend Camp
DESCRIPTION:Camp Aldersgate’s Weekend Camps provide developmentally appropriate opportunities for our campers that promote cognitive\, physical\, social and emotional growth in a fun\, engaging\, camp setting. Activity planning for each weekend includes a mix of physical activities\, art\, outdoor activities and structured and free-play. Weekend Camps are open for each camper to attend a maximum of six times in a school year. \nTo sign up for our Weekend Camp\, register here.
URL:https://campaldersgate.net/event/november-weekend-camp/
LOCATION:Camp Aldersgate\, 2000 Aldersgate Rd.\, Little Rock\, AR\, 72205\, United States
END:VEVENT
END:VCALENDAR